BEGIN:VCALENDAR
VERSION:2.0
PRODID:-//RoyalScouts - ECPv4.9.8//NONSGML v1.0//EN
CALSCALE:GREGORIAN
METHOD:PUBLISH
X-WR-CALNAME:RoyalScouts
X-ORIGINAL-URL:https://www.royalscouts.com
X-WR-CALDESC:Events for RoyalScouts
BEGIN:VTIMEZONE
TZID:Asia/Colombo
BEGIN:STANDARD
TZOFFSETFROM:+0530
TZOFFSETTO:+0530
TZNAME:+0530
DTSTART:20170101T000000
END:STANDARD
END:VTIMEZONE
BEGIN:VEVENT
DTSTART;VALUE=DATE:20170526
DTEND;VALUE=DATE:20170528
DTSTAMP:20260421T055424
CREATED:20170530T093255Z
LAST-MODIFIED:20170531T214951Z
UID:2242-1495756800-1495929599@www.royalscouts.com
SUMMARY:Annual Training Camp 2017
DESCRIPTION:
URL:https://www.royalscouts.com/event/annual-training-camp-2017/
LOCATION:Lee Dasanayaka Scout Training Center\, Lee Dasanayake Scout Camp\, Mirigama\, Sri Lanka
CATEGORIES:camp,training
ATTACH;FMTTYPE=image/jpeg:https://www.royalscouts.com/media/2017/05/tr.jpg
ORGANIZER;CN="Instructors":MAILTO:info@royalscouts.com
END:VEVENT
END:VCALENDAR